BEGIN:VCALENDAR
VERSION:2.0
PRODID:-//eventon.com NONSGML v1.0//EN
CALSCALE:GREGORIAN
METHOD:PUBLISH
BEGIN:VEVENT
UID:69e74aa30c5ff
DTSTAMP:20260421T100003Z
DTSTART:20260317T170000Z
DTEND:20260317T190000Z
LOCATION:Launch Fayette 250 S Peachtree Parkway
SUMMARY:You and Your Business: The Correct Legal Structure Protects What You’re Building
DESCRIPTION:Presented by Steven Newton Choosing the right legal structure i
 s one of the most important decisions a business owner will make. In this i
 nformative session\,  Steven Newton will walk entrepreneurs and small busin
 ess owners through how corporate form directly influences liability\,  risk
  exposure\,  and long-term protection. The presentation will include[..]\nh
 ttps://startupfayette.org/events/you-and-your-business-the-correct-legal-st
 ructure-protects-what-youre-building/
URL:https://startupfayette.org/events/you-and-your-business-the-correct-legal-structure-protects-what-youre-building/
END:VEVENT
END:VCALENDAR