BEGIN:VCALENDAR
VERSION:2.0
PRODID:-//eventon.com NONSGML v1.0//EN
CALSCALE:GREGORIAN
METHOD:PUBLISH
BEGIN:VEVENT
UID:69e761c727231
DTSTAMP:20260421T113847Z
DTSTART:20260519T170000Z
DTEND:20260519T190000Z
LOCATION:Launch Fayette 250 S Peachtree Parkway
SUMMARY:Sent\,  Not Sold: Make Business Come to You
DESCRIPTION:Presented by Wendy Kinney What if growing your business didn’
 t feel like selling at all? At the May StartUp Fayette event\,  Wendy Kinne
 y will introduce a refreshing approach to business development—one that r
 eplaces pressure and awkward networking with clarity\,  consistency\,  and 
 genuine connection. In Sent\,  Not Sold\,  Wendy reframes the[..]\nhttps://
 startupfayette.org/events/sent-not-sold-make-business-come-to-you/
URL:https://startupfayette.org/events/sent-not-sold-make-business-come-to-you/
END:VEVENT
END:VCALENDAR